BEGIN:VCALENDAR
VERSION:2.0
PRODID:-//www.medicalmissionsisters.org//NONSGML kigkonsult.se iCalcreator 
 2.30.10//
CALSCALE:GREGORIAN
METHOD:PUBLISH
UID:c2c53729-de6c-4aff-bab3-36493822d490
X-WR-CALDESC:
X-WR-RELCALID:20c2f15a3621a85074880e7e984c3a6f
X-WR-TIMEZONE:America/New_York
BEGIN:VTIMEZONE
TZID:America/New_York
BEGIN:STANDARD
TZNAME:EST
DTSTART:20201101T020000
TZOFFSETFROM:-0400
TZOFFSETTO:-0500
RDATE:20211107T020000
RDATE:20221106T020000
END:STANDARD
BEGIN:DAYLIGHT
TZNAME:EDT
DTSTART:20210314T020000
TZOFFSETFROM:-0500
TZOFFSETTO:-0400
RDATE:20220313T020000
RDATE:20230312T020000
END:DAYLIGHT
END:VTIMEZONE
BEGIN:VEVENT
UID:397d6ba6-75c6-425b-8ebd-6998bf72fd82
DTSTAMP:20260426T022028Z
DESCRIPTION:
DTSTART;TZID=America/New_York:20210922T190000
DTEND;TZID=America/New_York:20210922T200000
LOCATION:8400 Pine Road Philadelphia\, Pennsylvania 19111
SUMMARY:Twisted Monkey Yoga
END:VEVENT
END:VCALENDAR
