BEGIN:VCALENDAR
VERSION:2.0
PRODID:-//www.medicalmissionsisters.org//NONSGML kigkonsult.se iCalcreator 
 2.30.10//
CALSCALE:GREGORIAN
METHOD:PUBLISH
UID:17da9d62-48cc-4a6e-bbc6-228a1f2bbf6c
X-WR-CALDESC:Sponsored by the MMS Thrift Shop\, the Annual Harvest Auction 
 will be held in the administration building at 8400 Pine Road. The event w
 ill include light refreshments\, a live auction\, door prizes\, raffle bas
 kets and a 50-50 raffle. \n\nTickets cost $10 and can be purchased at the 
 MMS Thrift Shop. On-line registration is not available for this event.
X-WR-RELCALID:7d622039a74171a768d3b8e1b7f0e30b
X-WR-TIMEZONE:America/New_York
BEGIN:VTIMEZONE
TZID:America/New_York
BEGIN:STANDARD
TZNAME:EST
DTSTART:20181104T020000
TZOFFSETFROM:-0400
TZOFFSETTO:-0500
RDATE:20191103T020000
RDATE:20201101T020000
END:STANDARD
BEGIN:DAYLIGHT
TZNAME:EDT
DTSTART:20190310T020000
TZOFFSETFROM:-0500
TZOFFSETTO:-0400
RDATE:20200308T020000
RDATE:20210314T020000
END:DAYLIGHT
END:VTIMEZONE
BEGIN:VEVENT
UID:406ec0fe-69b7-4d39-a897-cc00ac401180
DTSTAMP:20260423T225205Z
DESCRIPTION:Sponsored by the MMS Thrift Shop\, the Annual Harvest Auction w
 ill be held in the administration building at 8400 Pine Road. The event wi
 ll include light refreshments\, a live auction\, door prizes\, raffle bask
 ets and a 50-50 raffle. \n\nTickets cost $10 and can be purchased at the M
 MS Thrift Shop. On-line registration is not available for this event.
DTSTART;TZID=America/New_York:20191103T113000
DTEND;TZID=America/New_York:20191103T143000
LOCATION:8400 Pine Road
SUMMARY:Annual Harvest Auction
END:VEVENT
END:VCALENDAR
