BEGIN:VCALENDAR
VERSION:2.0
PRODID:-//www.medicalmissionsisters.org//NONSGML kigkonsult.se iCalcreator 
 2.30.10//
CALSCALE:GREGORIAN
METHOD:PUBLISH
UID:30c45c7f-ace5-45b8-97ae-102e89bc9da5
X-WR-CALDESC:
X-WR-RELCALID:fedadcd6642a1eb422e0bce206a7d8fa
X-WR-TIMEZONE:America/New_York
BEGIN:VTIMEZONE
TZID:America/New_York
BEGIN:STANDARD
TZNAME:EST
DTSTART:20181104T020000
TZOFFSETFROM:-0400
TZOFFSETTO:-0500
RDATE:20191103T020000
RDATE:20201101T020000
END:STANDARD
BEGIN:DAYLIGHT
TZNAME:EDT
DTSTART:20190310T020000
TZOFFSETFROM:-0500
TZOFFSETTO:-0400
RDATE:20200308T020000
RDATE:20210314T020000
END:DAYLIGHT
END:VTIMEZONE
BEGIN:VEVENT
UID:601c6fbb-c487-448f-a4bd-d953e0050275
DTSTAMP:20260424T012700Z
DESCRIPTION:
DTSTART;TZID=America/New_York:20190921T100000
DTEND;TZID=America/New_York:20190921T120000
LOCATION:
SUMMARY:Practices for Presence
END:VEVENT
END:VCALENDAR
